BEGIN:VCALENDAR
VERSION:2.0
PRODID:-//Minocqua Forest Riders - ECPv6.15.20//NONSGML v1.0//EN
CALSCALE:GREGORIAN
METHOD:PUBLISH
X-ORIGINAL-URL:https://minocquaforestriders.org
X-WR-CALDESC:Events for Minocqua Forest Riders
REFRESH-INTERVAL;VALUE=DURATION:PT1H
X-Robots-Tag:noindex
X-PUBLISHED-TTL:PT1H
BEGIN:VTIMEZONE
TZID:America/Chicago
BEGIN:DAYLIGHT
TZOFFSETFROM:-0600
TZOFFSETTO:-0500
TZNAME:CDT
DTSTART:20240310T080000
END:DAYLIGHT
BEGIN:STANDARD
TZOFFSETFROM:-0500
TZOFFSETTO:-0600
TZNAME:CST
DTSTART:20241103T070000
END:STANDARD
BEGIN:DAYLIGHT
TZOFFSETFROM:-0600
TZOFFSETTO:-0500
TZNAME:CDT
DTSTART:20250309T080000
END:DAYLIGHT
BEGIN:STANDARD
TZOFFSETFROM:-0500
TZOFFSETTO:-0600
TZNAME:CST
DTSTART:20251102T070000
END:STANDARD
BEGIN:DAYLIGHT
TZOFFSETFROM:-0600
TZOFFSETTO:-0500
TZNAME:CDT
DTSTART:20260308T080000
END:DAYLIGHT
BEGIN:STANDARD
TZOFFSETFROM:-0500
TZOFFSETTO:-0600
TZNAME:CST
DTSTART:20261101T070000
END:STANDARD
END:VTIMEZONE
BEGIN:VEVENT
DTSTART;TZID=America/Chicago:20251110T170000
DTEND;TZID=America/Chicago:20251110T200000
DTSTAMP:20260420T191302
CREATED:20251003T213348Z
LAST-MODIFIED:20251103T014458Z
UID:10000943-1762794000-1762804800@minocquaforestriders.org
SUMMARY:General Membership Meeting at Sheri's Pub N Grub
DESCRIPTION:WHERE: Sheri’s Pub and Grub\,10486 State Hwy 70\, Minocqua\, WI\nWHEN:    Monday\, November 10\, 2025\nSOCIAL HOUR: 5:00PM (cash bar)\nDINNER:       6:00 PM\nMEETING:     7:00 PM\nMENU:           Broasted Chicken\, Manicotti\, Mashed Potatoes\, Gravy\, Garlic Breadsticks\, Salad Bar and Dessert \nJoin us for our General Meeting!  We would like to have a headcount of those attending a few days prior to the event to provide to the establishment\, so they can determine the amount of food needed. \nThis month’s meeting the cost is $25 per person.  You can always participate in the meeting without having dinner.  Please plan to pay at the door by way of cash or check.   Your RSVP is needed by November 6\, 2025\, even if you are not planning to have dinner. \nR.S.V.P. with the number attending by November 6\, 2025\,  to secretary.mfr@gmail.com \nJennifer Henze\, Secretary \nSheri’s Pub N Grub \n10486 State HWY 70 Minocqua\, WI. 54548\,
URL:https://minocquaforestriders.org/calendar/general-membership-meeting-at-sheris-pub-n-grub/
LOCATION:Sheri’s Pub N Grub\, 10486 State Hwy 70\, Minocqua\, WI\, 54548
CATEGORIES:Monthly Meetings
END:VEVENT
END:VCALENDAR