BEGIN:VCALENDAR
VERSION:2.0
PRODID:-//Minocqua Forest Riders - ECPv6.15.20//NONSGML v1.0//EN
CALSCALE:GREGORIAN
METHOD:PUBLISH
X-ORIGINAL-URL:https://minocquaforestriders.org
X-WR-CALDESC:Events for Minocqua Forest Riders
REFRESH-INTERVAL;VALUE=DURATION:PT1H
X-Robots-Tag:noindex
X-PUBLISHED-TTL:PT1H
BEGIN:VTIMEZONE
TZID:America/Chicago
BEGIN:DAYLIGHT
TZOFFSETFROM:-0600
TZOFFSETTO:-0500
TZNAME:CDT
DTSTART:20240310T080000
END:DAYLIGHT
BEGIN:STANDARD
TZOFFSETFROM:-0500
TZOFFSETTO:-0600
TZNAME:CST
DTSTART:20241103T070000
END:STANDARD
BEGIN:DAYLIGHT
TZOFFSETFROM:-0600
TZOFFSETTO:-0500
TZNAME:CDT
DTSTART:20250309T080000
END:DAYLIGHT
BEGIN:STANDARD
TZOFFSETFROM:-0500
TZOFFSETTO:-0600
TZNAME:CST
DTSTART:20251102T070000
END:STANDARD
BEGIN:DAYLIGHT
TZOFFSETFROM:-0600
TZOFFSETTO:-0500
TZNAME:CDT
DTSTART:20260308T080000
END:DAYLIGHT
BEGIN:STANDARD
TZOFFSETFROM:-0500
TZOFFSETTO:-0600
TZNAME:CST
DTSTART:20261101T070000
END:STANDARD
BEGIN:DAYLIGHT
TZOFFSETFROM:-0600
TZOFFSETTO:-0500
TZNAME:CDT
DTSTART:20270314T080000
END:DAYLIGHT
BEGIN:STANDARD
TZOFFSETFROM:-0500
TZOFFSETTO:-0600
TZNAME:CST
DTSTART:20271107T070000
END:STANDARD
END:VTIMEZONE
BEGIN:VEVENT
DTSTART;TZID=America/Chicago:20260311T170000
DTEND;TZID=America/Chicago:20260311T200000
DTSTAMP:20260420T120825
CREATED:20251003T221008Z
LAST-MODIFIED:20260219T174748Z
UID:10000946-1773248400-1773259200@minocquaforestriders.org
SUMMARY:General Membership Meeting at Ting's Tamarack Tap
DESCRIPTION:March General Membership Meeting\nMarch 11\,2026 \nWHERE: Ting’s Tamarack Tap\, 5533 WI-47\, Lake Tomahawk\, WI\nWHEN: Wednesday\, March 11\, 2026\nSOCIAL HOUR: 5:00PM\nDINNER: 6:00 PM\nMEETING: 7:00 PM\nMENU: \nOption 1: Chicken Dinner: 4 pieces of chicken\, served with coleslaw\, sweet corn\, mashed potatoes and gravy.\nOption 2: Half Rack of Ribs: Smothered in their BBQ sauce and served with coleslaw\, sweet corn\, mashed potatoes and gravy. \nAll meals come with your choice of side salad or soup and your choice of dessert: carrot cake or apple crisp. \nPLEASE NOTE – TO RSVP DO NOT REPLY TO THIS EMAIL. EMAIL YOUR RSVP TO secretary.mfr@gmail.com \nFor this month’s meeting\, the cost is $25 per person whether you choose chicken (Option 1) or ribs (Option 2). When you RSVP\, please provide the full name of each person eating and whether they want chicken (Option 1) or ribs (Option 2). We must provide a final count of attendees to Ting’s by March 4th. There can be no exceptions. \nIf you RSVP in the positive and you later determine you cannot attend\, please consider making a donation to the Club\, as the Club will have to pay the vendor for your meal(s). \nPlease plan to pay at the door by way of cash or check payable to “Ting’s Tamarack Tap”. Having the exact amount is always appreciated. \nYou can always participate in the meeting without having dinner\, but please let us know if you do not intend to eat when you RSVP\, so the vendor can arrange for additional seating. \nWe need to have a headcount of those attending by March 4\, 2026\, so the vendor can determine the amount of food needed.\nRSBVPs are needed by March 4\, 2026\, even if you are not planning to have dinner. \nRSVP with the full name of people attending and\, if they will be eating\, their dinner option no later than March 4\, 2026\, to secretary.mfr@gmail.com \nLet it Snow!!! \nJennifer Henze\, Secretary
URL:https://minocquaforestriders.org/calendar/general-membership-meeting-at-lizzy-ts-tamarack-tap/
LOCATION:Ting’sTamarack Tap\, 5533 Highway 47\, Lake Tomahawk\, 54539\, United States
CATEGORIES:Monthly Meetings
END:VEVENT
BEGIN:VEVENT
DTSTART;TZID=America/Chicago:20260211T170000
DTEND;TZID=America/Chicago:20260211T200000
DTSTAMP:20260420T120825
CREATED:20251003T220322Z
LAST-MODIFIED:20260213T231312Z
UID:10000945-1770829200-1770840000@minocquaforestriders.org
SUMMARY:General Membership Meeting at The Thirsty Whale
DESCRIPTION:5:00 pm – Social Hour \n6:00 pm – Dinner \n7:00 pm – Meeting \n  \nAt The Thirsty Whale \n453 Park Ave. Minocqua WI 54548 \n 
URL:https://minocquaforestriders.org/calendar/general-membership-meeting-at-the-thirsty-whale/
LOCATION:The Thirsty Whale\, 453 E. Park\, Minocqua\, WI\, 54548
CATEGORIES:Monthly Meetings
END:VEVENT
BEGIN:VEVENT
DTSTART;TZID=America/Chicago:20260114T173000
DTEND;TZID=America/Chicago:20260114T200000
DTSTAMP:20260420T120825
CREATED:20251003T215108Z
LAST-MODIFIED:20260213T231404Z
UID:10000944-1768411800-1768420800@minocquaforestriders.org
SUMMARY:General Membership Meeting at Aberdeen Restaurant & Bar
DESCRIPTION:5:30 pm – Social Hour \n6:00 pm – Dinner \n7:00 pm – Meeting \n  \nAt Aberdeen Restaurant & Bar \n5325 Aberdeen Lodge Circle\, Manitowish Waters\, WI
URL:https://minocquaforestriders.org/calendar/general-membership-meeting-at-aberdeen-restaurant-bar/
LOCATION:Aberdeen Restaurant & Bar\, 5325 Aberdeen Lodge Circle\, Manitowish Waters\, 54545\, United States
CATEGORIES:Monthly Meetings
ORGANIZER;CN="Jennifer Henze - Secretary":MAILTO:secretary.mfr@gmail.com
END:VEVENT
BEGIN:VEVENT
DTSTART;TZID=America/Chicago:20251110T170000
DTEND;TZID=America/Chicago:20251110T200000
DTSTAMP:20260420T120825
CREATED:20251003T213348Z
LAST-MODIFIED:20251103T014458Z
UID:10000943-1762794000-1762804800@minocquaforestriders.org
SUMMARY:General Membership Meeting at Sheri's Pub N Grub
DESCRIPTION:WHERE: Sheri’s Pub and Grub\,10486 State Hwy 70\, Minocqua\, WI\nWHEN:    Monday\, November 10\, 2025\nSOCIAL HOUR: 5:00PM (cash bar)\nDINNER:       6:00 PM\nMEETING:     7:00 PM\nMENU:           Broasted Chicken\, Manicotti\, Mashed Potatoes\, Gravy\, Garlic Breadsticks\, Salad Bar and Dessert \nJoin us for our General Meeting!  We would like to have a headcount of those attending a few days prior to the event to provide to the establishment\, so they can determine the amount of food needed. \nThis month’s meeting the cost is $25 per person.  You can always participate in the meeting without having dinner.  Please plan to pay at the door by way of cash or check.   Your RSVP is needed by November 6\, 2025\, even if you are not planning to have dinner. \nR.S.V.P. with the number attending by November 6\, 2025\,  to secretary.mfr@gmail.com \nJennifer Henze\, Secretary \nSheri’s Pub N Grub \n10486 State HWY 70 Minocqua\, WI. 54548\,
URL:https://minocquaforestriders.org/calendar/general-membership-meeting-at-sheris-pub-n-grub/
LOCATION:Sheri’s Pub N Grub\, 10486 State Hwy 70\, Minocqua\, WI\, 54548
CATEGORIES:Monthly Meetings
END:VEVENT
BEGIN:VEVENT
DTSTART;TZID=America/Chicago:20250908T090000
DTEND;TZID=America/Chicago:20250908T100000
DTSTAMP:20260420T120825
CREATED:20250902T161537Z
LAST-MODIFIED:20250902T161537Z
UID:10000931-1757322000-1757325600@minocquaforestriders.org
SUMMARY:Board of Directors Meeting
DESCRIPTION:
URL:https://minocquaforestriders.org/calendar/board-of-directors-meeting-5/
LOCATION:Norwood Pines Supper Club\, 10171 WI-70\,\, Minocqua\, WI\, 54548\, United States
CATEGORIES:Monthly Meetings
ORGANIZER;CN="Jennifer Henze - Secretary":MAILTO:secretary.mfr@gmail.com
END:VEVENT
END:VCALENDAR