BEGIN:VCALENDAR
VERSION:2.0
PRODID:-//Minocqua Forest Riders - ECPv6.15.20//NONSGML v1.0//EN
CALSCALE:GREGORIAN
METHOD:PUBLISH
X-WR-CALNAME:Minocqua Forest Riders
X-ORIGINAL-URL:https://minocquaforestriders.org
X-WR-CALDESC:Events for Minocqua Forest Riders
REFRESH-INTERVAL;VALUE=DURATION:PT1H
X-Robots-Tag:noindex
X-PUBLISHED-TTL:PT1H
BEGIN:VTIMEZONE
TZID:America/Chicago
BEGIN:DAYLIGHT
TZOFFSETFROM:-0600
TZOFFSETTO:-0500
TZNAME:CDT
DTSTART:20250309T080000
END:DAYLIGHT
BEGIN:STANDARD
TZOFFSETFROM:-0500
TZOFFSETTO:-0600
TZNAME:CST
DTSTART:20251102T070000
END:STANDARD
BEGIN:DAYLIGHT
TZOFFSETFROM:-0600
TZOFFSETTO:-0500
TZNAME:CDT
DTSTART:20260308T080000
END:DAYLIGHT
BEGIN:STANDARD
TZOFFSETFROM:-0500
TZOFFSETTO:-0600
TZNAME:CST
DTSTART:20261101T070000
END:STANDARD
BEGIN:DAYLIGHT
TZOFFSETFROM:-0600
TZOFFSETTO:-0500
TZNAME:CDT
DTSTART:20270314T080000
END:DAYLIGHT
BEGIN:STANDARD
TZOFFSETFROM:-0500
TZOFFSETTO:-0600
TZNAME:CST
DTSTART:20271107T070000
END:STANDARD
END:VTIMEZONE
BEGIN:VEVENT
DTSTART;TZID=America/Chicago:20260305T102500
DTEND;TZID=America/Chicago:20260305T170000
DTSTAMP:20260422T064655
CREATED:20260119T163900Z
LAST-MODIFIED:20260213T231254Z
UID:10000999-1772706300-1772730000@minocquaforestriders.org
SUMMARY:Weekly Club Ride
DESCRIPTION:Typically will be on Thursdays with meeting time of 10:30.   Watch email\, Facebook\, and this website for details on route\, destination and day.  Occasionally ride will be moved to a different day of the week.  Rides are dependent on trail conditions and weather forecast.
URL:https://minocquaforestriders.org/calendar/weekly-club-ride-3/2026-03-05/
CATEGORIES:Weekly Club Rides
END:VEVENT
BEGIN:VEVENT
DTSTART;TZID=America/Chicago:20260226T102500
DTEND;TZID=America/Chicago:20260226T170000
DTSTAMP:20260422T064655
CREATED:20260224T001125Z
LAST-MODIFIED:20260224T001813Z
UID:10000998-1772101500-1772125200@minocquaforestriders.org
SUMMARY:Weekly Club Ride - The Timbers in Saint Germain
DESCRIPTION:CLUB RIDE THURSDAY FEBRUARY  26\n\nDestination:        The Timbers Bar & Grill\nTime:              The Group picture is at 10:25 with a 10:30 AM departure\nLocation:          TIN-601: The Intersection of Corridor 10 & Trail 9/10A\nRoute:    South on Trail 9; East on Corridor 12; East on Trail 370; East on 70 to our destination.\nPickup Points:    TIN-671\, TIN-667\,\nReturn Route:    Trails 70A\, B\, & C to our final destination\nDestination:        The Thirsty Whale\nOrganized By:    Members Larry & Nancy Schum \nWeather forecast for Minocqua: 17F at ride time with a high later in the day of 27F
URL:https://minocquaforestriders.org/calendar/weekly-club-ride-3-6/
LOCATION:The Timbers Bar & Grill\, 1053 Elbert Road\, St. Germain\, WI\, 54558\, United States
CATEGORIES:Weekly Club Rides
END:VEVENT
BEGIN:VEVENT
DTSTART;TZID=America/Chicago:20260219T102500
DTEND;TZID=America/Chicago:20260219T170000
DTSTAMP:20260422T064655
CREATED:20260216T184754Z
LAST-MODIFIED:20260216T205749Z
UID:10000997-1771496700-1771520400@minocquaforestriders.org
SUMMARY:Weekly Club Ride - Canceled Feb. 19
DESCRIPTION:Due to the warm weather in the forecast\, and the uncertain trail conditions there will not be a club ride this week.  There is cooler weather in the forecast for next week and even some possibility of snow\, so we may yet get another club ride in. \nDon’t forget that this Saturday is the Vintage Snowmobile Day at Area 31 – a full day of fun for the whole family.  Events will include Vintage Showcase; Vintage\, Fun\, and Youth Radar Runs; and the drawing for our Forest Riders’ snowmobile raffle (tickets are still available at local businesses and will be available at Area 31 on Vintage Day). \nFor info on all the Vintage Day activities\, visit the event website:  https://vintagesnowmobileday.com/
URL:https://minocquaforestriders.org/calendar/weekly-club-ride-3-5/
CATEGORIES:Weekly Club Rides
END:VEVENT
BEGIN:VEVENT
DTSTART;TZID=America/Chicago:20260212T102500
DTEND;TZID=America/Chicago:20260212T170000
DTSTAMP:20260422T064655
CREATED:20260209T174628Z
LAST-MODIFIED:20260213T231302Z
UID:10000996-1770891900-1770915600@minocquaforestriders.org
SUMMARY:Weekly Club Ride to Ten Point in Harshaw
DESCRIPTION:February 9\, 2026 \nFrom:  Steve Osterling (filling in for Curt Christensen) \nOur upcoming club ride is Thursday\, February 12th. We’ll be riding Oneida County Trails southeast to Harshaw for lunch at Ten Point Bar in Harshaw\, with an intermediate stop at LeCanne’s on Swamp Lake\, and a final stop after lunch at Church Street Social in Hazelhurst. \n*** Club Membership Not Needed To Participate *** \nDestination: Ten Point Bar – Harshaw WI\nMeet At: Intersection of Trail 9/10A & Corridor 10 (TIN-601)\nTime:  Group picture at 10:25 AM; Ready to ride at 10:30 AM\nRoute:  Trail 9S to Trail 12E to Trail AA south\, to Trail 7S\, to Trail 8E.\nStop at LeCanne’s Resort on Swamp Lake.  Continue on 8E to Trail 51N to Ten Point Bar\nPickup Points:  TIN-671\nReturn Route:  Trail 51N with a final stop at Church Street Social in Hazelhurst\nFinal Destination:  Church Street Social in Hazelhurst\nLed By:  Larry & Nancy Schum \nThursday’s Forecast for Minocqua:   Partly sunny\, highs in the lower 30s. \n\n   
URL:https://minocquaforestriders.org/calendar/weekly-club-ride-3-4/
CATEGORIES:Weekly Club Rides
END:VEVENT
BEGIN:VEVENT
DTSTART;TZID=America/Chicago:20260205T102500
DTEND;TZID=America/Chicago:20260205T170000
DTSTAMP:20260422T064655
CREATED:20260202T175540Z
LAST-MODIFIED:20260213T231321Z
UID:10000995-1770287100-1770310800@minocquaforestriders.org
SUMMARY:Weekly Club Ride
DESCRIPTION:From: Steve Osterling (filling in for Curt Christensen) \nOur upcoming club ride is Friday\, January 20th. We’ll be riding Forest Rider Trails southwest down to the Willow Region for lunch at Bucksnort Resort \n*** Club Membership Not Needed To Participate *** \nDestination: Bucksnort\nMeet At: Intersection of Trail 9/10A & Corridor 10 (TIN-601)\nTime: Group picture at 10:25 AM; Ready to ride at 10:30 AM\nRoute: South on Trail 9/10A; West on Corridor 12; West on Trail G; South on Trail 5; West on Trail 12 to Bucksnort\nPickup Points: TIN-671\, TIN-667\, TIN-676\nReturn Route: East on Trail 8E\, East on Trail I\, East on Trail 8E\, North on Trail 7N\, North on Trail AA\, East on Trail 12E\, North on Trail 51N.\nFinal Destination: Whitmans in Hazelhurst\nLead By: Larry & Nancy Schum \nFriday’s Forecast for Minocqua\nHigh temperature of 30 degrees with 40% chance of light snow showers in the morning.
URL:https://minocquaforestriders.org/calendar/weekly-club-ride-3-3/
CATEGORIES:Weekly Club Rides
END:VEVENT
BEGIN:VEVENT
DTSTART;TZID=America/Chicago:20260130T102500
DTEND;TZID=America/Chicago:20260130T170000
DTSTAMP:20260422T064655
CREATED:20260127T031015Z
LAST-MODIFIED:20260213T231331Z
UID:10000994-1769768700-1769792400@minocquaforestriders.org
SUMMARY:Weekly Club Ride
DESCRIPTION:January 26\, 2026 \nCurt Christensen\, Past President \nDue to the very cold temperature predicted for Thursday\, this week’s ride will be Friday\, January 30th.  We’ll be traveling north to our lunch destination in the Manitowish Waters area. Our route home will take us south to Woodruff. \n*** Club Membership Not Needed To Participate *** \nDestination: Howling Dog \nMeet At: Corridor 10 at TIN-711 (across from the Krist station) \nSpecial Note:  There are no fuel stops along the entire 75 mile route. Make sure you begin the ride with a full tank of gas. \nTime: Group picture at 10:25 AM; Ready to ride at 10:30 AM \nRoute: East on Corridor 10; North on Trail 51;  North on Trail 51; West on Corridor 8 (Note that Planned Break at Gresham Lodge is cancelled as they are closed Fri afternoon for a special  event – ride will now go direct to lunch destination)l \nPickup Points: TIN-326\, TIN-323\, TIN-304\, TIN-303 \nReturn Route:  East on Corridor 8; South on Trail 51; East on Corridor 10; South on Trail 3; South on Corridor 17 \nFinal Destination:    Club Five One in Woodruff (formerly The Outback and before that Wiseguys) \nOrganized By:         Members Larry & Nancy Schum \nFriday’s Forecast for Hazelhurst  (provided by weather.com) \nExpect cloudy skies. The high temperature will be 11 degrees. The wind will be out of the north at 5 to 10 mph.
URL:https://minocquaforestriders.org/calendar/weekly-club-ride-3-2/
CATEGORIES:Weekly Club Rides
END:VEVENT
BEGIN:VEVENT
DTSTART;TZID=America/Chicago:20260121T102500
DTEND;TZID=America/Chicago:20260121T170000
DTSTAMP:20260422T064655
CREATED:20260119T163041Z
LAST-MODIFIED:20260213T231341Z
UID:10000993-1768991100-1769014800@minocquaforestriders.org
SUMMARY:Weekly Club Ride - Wednesday Jan 21
DESCRIPTION:January 19\, 2026\nFrom: Curt Christensen\, Past President \nDue to the very cold temperature predicted for Thursday\, this week’s ride will be Wednesday\, January 21st. \nSpecial Note:\nThe Greater Minocqua Area Visitor’s Bureau will be at both our starting point and lunch destination to “capture footage of snowmobiles on the trails”. We’ll be traveling south to our lunch destination on the Willow Flowage. \nOur route home will take us east toward the Bearskin Trail. \n*** Club Membership Not Needed To Participate ***\nDestination: Willow Haven Bar & Grill\nMeet At: Intersection of Trail 9/10A & Corridor 10 (TIN-601)\nTime: Group picture at 10:25 AM; Ready to ride at 10:30 AM\nRoute: South on Trail 9/10A; South on Trail 9; West on Corridor 12; South on Trail 7; South on Trail 51A; Follow Trail 51A onto the Willow Flowage\nPickup Points: TIN-671 (9)\, TIN-667 (C12) & TIN-441 (7)\nReturn Route: North on Trail 51A; South on Trail 7; North on Trail AA; East on Corridor 12\nFinal Destination: The Hazelhurst Pub\nOrganized By: Members Larry & Nancy Schum \nWednesday’s Forecast for Hazelhurst (provided by weather.com)\nExpect cloudy skies. A few flurries or snow showers are possible. The high temperature will be 13 degrees. The wind will be out of the west/southwest at 5 to 10 mph.
URL:https://minocquaforestriders.org/calendar/weekly-club-ride-wednesday-21/
CATEGORIES:Weekly Club Rides
END:VEVENT
BEGIN:VEVENT
DTSTART;TZID=America/Chicago:20260115T102500
DTEND;TZID=America/Chicago:20260115T150000
DTSTAMP:20260422T064655
CREATED:20260112T163115Z
LAST-MODIFIED:20260213T231349Z
UID:10000992-1768472700-1768489200@minocquaforestriders.org
SUMMARY:Weekly Club Ride
DESCRIPTION:January 12\, 2026\nCurt Christensen\, Past President \nOur first Club Ride of the season will be Thursday\, January 15th.  We’ll be traveling on Forest Rider trails to our lunch destination in the Pike Lake Region. On the way home\, we’ll be enjoying the scenic beauty that the Kobart Trail has to offer. \n*** Club Membership Not Needed To Participate *** \nDestination: The Big Dipper\nMeet At: Intersection of Trail 9/10A & Corridor 10 (TIN-601)\nTime: Group picture at 10:25 AM; Ready to ride at 10:30 AM\nRoute: West on Corridor 10; Northwest on Trail 108; Cross Pike Lake to our Destination.\nPickup Points: TIN-604 (BB)\, TIN-609 (10A) TIN-614 (C) & TIN-617 (D) \nReturn Route: Head back to Corridor 10 and then East on Trail P; East on Trail C; North on Trail J; East on Trail D; South on Trail BB \nFinal Destination: Black Bear Bar\nOrganized By: Members Larry & Nancy Schum \nThursday’s Forecast for Lac du Flambeau (weather.com)  Cloudy skies. High near 15F. Winds SSW at 5 to 10 mph.
URL:https://minocquaforestriders.org/calendar/weekly-club-ride-2/
CATEGORIES:Weekly Club Rides
END:VEVENT
END:VCALENDAR