BEGIN:VCALENDAR
VERSION:2.0
PRODID:-//Minocqua Forest Riders - ECPv6.15.20//NONSGML v1.0//EN
CALSCALE:GREGORIAN
METHOD:PUBLISH
X-WR-CALNAME:Minocqua Forest Riders
X-ORIGINAL-URL:https://minocquaforestriders.org
X-WR-CALDESC:Events for Minocqua Forest Riders
REFRESH-INTERVAL;VALUE=DURATION:PT1H
X-Robots-Tag:noindex
X-PUBLISHED-TTL:PT1H
BEGIN:VTIMEZONE
TZID:America/Chicago
BEGIN:DAYLIGHT
TZOFFSETFROM:-0600
TZOFFSETTO:-0500
TZNAME:CDT
DTSTART:20250309T080000
END:DAYLIGHT
BEGIN:STANDARD
TZOFFSETFROM:-0500
TZOFFSETTO:-0600
TZNAME:CST
DTSTART:20251102T070000
END:STANDARD
BEGIN:DAYLIGHT
TZOFFSETFROM:-0600
TZOFFSETTO:-0500
TZNAME:CDT
DTSTART:20260308T080000
END:DAYLIGHT
BEGIN:STANDARD
TZOFFSETFROM:-0500
TZOFFSETTO:-0600
TZNAME:CST
DTSTART:20261101T070000
END:STANDARD
BEGIN:DAYLIGHT
TZOFFSETFROM:-0600
TZOFFSETTO:-0500
TZNAME:CDT
DTSTART:20270314T080000
END:DAYLIGHT
BEGIN:STANDARD
TZOFFSETFROM:-0500
TZOFFSETTO:-0600
TZNAME:CST
DTSTART:20271107T070000
END:STANDARD
END:VTIMEZONE
BEGIN:VEVENT
DTSTART;VALUE=DATE:20260603
DTEND;VALUE=DATE:20260604
DTSTAMP:20260420T103255
CREATED:20251018T222602Z
LAST-MODIFIED:20251018T222602Z
UID:10000966-1780444800-1780531199@minocquaforestriders.org
SUMMARY:International Snowmobile Congress
DESCRIPTION:Embassy Suites Hotel & Conference Center\n12520 Westport Pkwy\, LaVista\, NE
URL:https://minocquaforestriders.org/calendar/international-snowmobile-congress/2026-06-03/
LOCATION:Embassy Suites Hotel & Conference Center 12520 Westport Pkwy\, LaVista\, NE
END:VEVENT
BEGIN:VEVENT
DTSTART;VALUE=DATE:20260604
DTEND;VALUE=DATE:20260605
DTSTAMP:20260420T103255
CREATED:20251018T222602Z
LAST-MODIFIED:20251018T222602Z
UID:10000967-1780531200-1780617599@minocquaforestriders.org
SUMMARY:International Snowmobile Congress
DESCRIPTION:Embassy Suites Hotel & Conference Center\n12520 Westport Pkwy\, LaVista\, NE
URL:https://minocquaforestriders.org/calendar/international-snowmobile-congress/2026-06-04/
LOCATION:Embassy Suites Hotel & Conference Center 12520 Westport Pkwy\, LaVista\, NE
END:VEVENT
BEGIN:VEVENT
DTSTART;VALUE=DATE:20260605
DTEND;VALUE=DATE:20260606
DTSTAMP:20260420T103255
CREATED:20251018T222602Z
LAST-MODIFIED:20251018T222602Z
UID:10000968-1780617600-1780703999@minocquaforestriders.org
SUMMARY:International Snowmobile Congress
DESCRIPTION:Embassy Suites Hotel & Conference Center\n12520 Westport Pkwy\, LaVista\, NE
URL:https://minocquaforestriders.org/calendar/international-snowmobile-congress/2026-06-05/
LOCATION:Embassy Suites Hotel & Conference Center 12520 Westport Pkwy\, LaVista\, NE
END:VEVENT
BEGIN:VEVENT
DTSTART;VALUE=DATE:20260606
DTEND;VALUE=DATE:20260607
DTSTAMP:20260420T103255
CREATED:20251018T222602Z
LAST-MODIFIED:20251018T222602Z
UID:10000969-1780704000-1780790399@minocquaforestriders.org
SUMMARY:International Snowmobile Congress
DESCRIPTION:Embassy Suites Hotel & Conference Center\n12520 Westport Pkwy\, LaVista\, NE
URL:https://minocquaforestriders.org/calendar/international-snowmobile-congress/2026-06-06/
LOCATION:Embassy Suites Hotel & Conference Center 12520 Westport Pkwy\, LaVista\, NE
END:VEVENT
END:VCALENDAR